BEGIN:VCALENDAR
VERSION:2.0
PRODID:-//WikiProjet - ECPv6.15.13.1//NONSGML v1.0//EN
CALSCALE:GREGORIAN
METHOD:PUBLISH
X-WR-CALNAME:WikiProjet
X-ORIGINAL-URL:https://wikiprojet.fr
X-WR-CALDESC:Évènements pour WikiProjet
REFRESH-INTERVAL;VALUE=DURATION:PT1H
X-Robots-Tag:noindex
X-PUBLISHED-TTL:PT1H
BEGIN:VTIMEZONE
TZID:Europe/Paris
BEGIN:DAYLIGHT
TZOFFSETFROM:+0100
TZOFFSETTO:+0200
TZNAME:CEST
DTSTART:20170326T010000
END:DAYLIGHT
BEGIN:STANDARD
TZOFFSETFROM:+0200
TZOFFSETTO:+0100
TZNAME:CET
DTSTART:20171029T010000
END:STANDARD
BEGIN:DAYLIGHT
TZOFFSETFROM:+0100
TZOFFSETTO:+0200
TZNAME:CEST
DTSTART:20180325T010000
END:DAYLIGHT
BEGIN:STANDARD
TZOFFSETFROM:+0200
TZOFFSETTO:+0100
TZNAME:CET
DTSTART:20181028T010000
END:STANDARD
BEGIN:DAYLIGHT
TZOFFSETFROM:+0100
TZOFFSETTO:+0200
TZNAME:CEST
DTSTART:20190331T010000
END:DAYLIGHT
BEGIN:STANDARD
TZOFFSETFROM:+0200
TZOFFSETTO:+0100
TZNAME:CET
DTSTART:20191027T010000
END:STANDARD
BEGIN:DAYLIGHT
TZOFFSETFROM:+0100
TZOFFSETTO:+0200
TZNAME:CEST
DTSTART:20200329T010000
END:DAYLIGHT
BEGIN:STANDARD
TZOFFSETFROM:+0200
TZOFFSETTO:+0100
TZNAME:CET
DTSTART:20201025T010000
END:STANDARD
BEGIN:DAYLIGHT
TZOFFSETFROM:+0100
TZOFFSETTO:+0200
TZNAME:CEST
DTSTART:20210328T010000
END:DAYLIGHT
BEGIN:STANDARD
TZOFFSETFROM:+0200
TZOFFSETTO:+0100
TZNAME:CET
DTSTART:20211031T010000
END:STANDARD
END:VTIMEZONE
BEGIN:VEVENT
DTSTART;TZID=Europe/Paris:20200225T123000
DTEND;TZID=Europe/Paris:20200225T140000
DTSTAMP:20260422T175943
CREATED:20191229T151609Z
LAST-MODIFIED:20191229T153521Z
UID:956-1582633800-1582639200@wikiprojet.fr
SUMMARY:Retour d'expérience d'un projet de Digitalisation des achats
DESCRIPTION:Digitalisation des achats chez NOKIA avec SAP ARIBA\nLe pôle Paris NOKIA du PMI vous invite à cette conférence le 25/02/20 portant sur le retour d’expérience d’un projet de digitalisation des achats chez NOKIA avec la solution Cloud SAP ARIBA. \nContent-Hub :  REX Projet Digitalisation achats chez NOKIA \n\n\nPrésentation \n\nLa Fonction Achats chez NOKIA a lancé il y a 3 ans un grand programme de Digitalisation. Un des projets était de déployer la solution SAP ARIBA pour digitaliser la partie amont des achats du sourcing à la gestion des risques. Pascal explicitera la problématique de gestion de projet multi sites\, multiculturel\, les clés de réussite\, la gestion du changement et certains indicateurs. Il explicitera la spécificité des solutions Cloud et de l’amélioration continue. \n \n\nSpeaker\n\nPascal FOUQUIER\nAprès une carrière dans les métiers du développement\, de la gestion de produit et de pilotage des achats au sein d’Altran et d’Alcatel\, il rejoint en 2014 une organisation spécialisée dans la digitalisation des achats. Il a travaillé comme Directeur Projet et a déployé des solutions SAP ARIBA et Salesforce/APTTUS en pilotant des intégrateurs comme ACCENTURE ou ATOS \n  \n\nPropriétés de l’événement\n\nDate de l’événement 25-02-2020 12:30\nDate de fin 25-02-2020 14:00\nRegistration Start Date 06-01-2020\nDate butoir 24-02-2020 12:00\nPrix individuel Gratuit\nLieu NOKIA – Paris-Saclay
URL:https://wikiprojet.fr/event/retour-dexperience-dun-projet-de-digitalisation-des-achats/
LOCATION:NOKIA Paris-Saclay\, 1 Route de Villejust\, Nozay\, Essonnes\, 91620\, France
CATEGORIES:Conférence
ATTACH;FMTTYPE=image/png:https://wikiprojet.fr/wp-content/uploads/2019/12/banner-25.2.20.png
END:VEVENT
BEGIN:VEVENT
DTSTART;TZID=Europe/Paris:20200207T130000
DTEND;TZID=Europe/Paris:20200207T160000
DTSTAMP:20260422T175943
CREATED:20191229T150419Z
LAST-MODIFIED:20191229T152325Z
UID:948-1581080400-1581091200@wikiprojet.fr
SUMMARY:Project Management Professional Day - 2020
DESCRIPTION:ISM-IAE – Project Management Professional Day – 2020\nLes étudiants en M2 Master Management Stratégique et conduite du Changement de ISM-IAE Université de Saint-Quentin-en-Yvelines vous invitent le 7/02/20 à participer à ce moment de rencontre et de partage portant sur le management. \nContent-Hub :  ISM-IAE : PMPD 2020 \n\n\nConférences\n\n* Qui sommes-nous ? \nNous sommes des étudiants M2 Master Management Stratégique et conduite du Changement de ISM-IAE Université de Saint-Quentin-en-Yvelines. \n  \n* Participants \nCette conférence est ouverte à l’ensemble des étudiants du Master MSC de l’ISM-IAE\, aux professeurs souhaitant découvrir cette journée mémorable ainsi qu’aux volontaires souhaitant participer à cette rencontre. \nhttps://pmi-france.org/branches/paris-ile-de-france/conferences/ile-de-france-events/yvelines/pmi-ile-de-france-ism-iae-project-management-professional-day-pmpd-2020 \n  \n\nPrésentation de l’événement\n\nFin d’année 2017\, naissait un événement original nommé « Project Management Profession Day » (PMPD) et dont la vocation première est de rapprocher étudiants et professionnels autour de leur passion commune\, la conduite de projet. \nLors de cet évènement les étudiants du master MSC de l’ISM-IAE organisent un évènement avec la branche académique du PMI France pour en apprendre davantage autour de certaines thématiques de la gestion de projet. \nA partir du 6 février\, ils vont participer à une simulation de gestion online et ce\, jusqu’au vendredi 7 février en fin de matinée. Puis entamer la rencontre des volontaires du PMI. \nÊtes-vous quelqu’un qui a toujours eu la curiosité d’apporter votre expertise à la future génération des chefs de projet ? Volontaires du PMI\, cette journée PMPD est pour vous ! \nLe vendredi 7 février 2020 à partir de 13h\, venez participer à des tables rondes sur des thématiques choisies par les étudiants. \nEnsuite\, venez assister à une conférence de clôture avec un jeune Project Management Officer et un Project Manager pour une conférence croisée passionnante ! \n  \n\nInfos sur l’événement\n\n* Lieu \nISM-IAE Université de Saint-Quentin-en-Yvelines \n11 Boulevard d’Alembert\, 78280 Guyancourt \nPrix : 0€ \nDate : 07 février 2020 \n  \n* Agenda : \n13h – Welcome aux volontaires \n13h30 – Début du speed-meeting consulting \n16h30 – Pause \n17h – Conference de cloture \n  \n* Propriété de l’événement \nDate de l’événement        07-02-2020 13:00 \nDate de fin        07-11-2019 16:00 \nRegistration Start Date        02-12-2019 \nDate butoir        05-02-2020 12:00 \nPrix individuel        Gratuit \nLieu        Université de Versailles-Saint Quentin (78)
URL:https://wikiprojet.fr/event/project-management-professional-day-2020/
LOCATION:Université de Versailles-Saint Quentin\, 11 Boulevard d'Alembert\, Guyancourt\, Yvelines\, 78280\, France
CATEGORIES:Conférence
ATTACH;FMTTYPE=image/png:https://wikiprojet.fr/wp-content/uploads/2019/12/20.2.7-PMPD-2020.png
END:VEVENT
BEGIN:VEVENT
DTSTART;TZID=Europe/Paris:20200120T123000
DTEND;TZID=Europe/Paris:20200120T133000
DTSTAMP:20260422T175943
CREATED:20191229T145048Z
LAST-MODIFIED:20191229T145211Z
UID:942-1579523400-1579527000@wikiprojet.fr
SUMMARY:Je me suis royalement plantée\, et alors ?
DESCRIPTION:Pôle Paris-Saclay : Je me suis royalement plantée\, et alors ?\nLe pôle PMI Paris-Saclay vous invite à assister à la conférence Je me suis royalement plantée\, et alors ?»\, animée par Nathalie KOCINSKI \nContent-Hub : 20/01/20 – Je me suis royalement plantée\, et alors ? \n\n\nConférence\n\nDans une culture valorisant le résultat\, échouer fait peur. Nous avons même presque banni ce mot de notre vocabulaire. Et pourtant\, échouer est le meilleur chemin pour développer les qualités qui feront de vous un leader authentique. \nUne conférence inspirée d’un cheminement personnel et qui tente d’offrir une raison d’être nouvelle à ce que nous considérons comme nos échecs. \n  \n\nSpeaker\n\nIntervenant: Nathalie KOCINSKI / Architecte de la motivation \nJuriste en droit des affaires\, j’ai découvert le monde professionnel à la direction générale de BNP Paribas. 7 ans plus tard\, je pars à la recherche d’une activité qui ferait sens et j’entame une « quête de sens et de soi » qui m’amène aujourd’hui à être architecte de la motivation et à proposer des accompagnements qui permettent de développer votre intelligence émotionnelle et relationnelle. \n  \n\nInfos sur l’événement\n\nQuand ? Lundi 20 Janvier 2020\nOù ? Nokia Paris-Saclay\nA quelle heure ? de 12:30 à 13:30\nLa participation à cet événement rapporte 1 PDU aux certifiés PMP et PgMP présents (catégorie Leadership).\nClôture des inscriptions : Vendredi 17 Janvier 12:00\nCet évènement est réservé aux membres du PMI. \nhttps://pmi-france.org/branches/paris-ile-de-france/conferences/ile-de-france-events/paris-saclay/paris-saclay-je-me-suis-royalement-plantee-et-alors
URL:https://wikiprojet.fr/event/je-me-suis-royalement-plantee-et-alors/
LOCATION:NOKIA Paris-Saclay\, 1 Route de Villejust\, Nozay\, Essonnes\, 91620\, France
CATEGORIES:Conférence
ATTACH;FMTTYPE=image/png:https://wikiprojet.fr/wp-content/uploads/2019/12/conference_jancier_2020.png
END:VEVENT
BEGIN:VEVENT
DTSTART;TZID=Europe/Paris:20200107T183000
DTEND;TZID=Europe/Paris:20200107T213000
DTSTAMP:20260422T175943
CREATED:20191229T141517Z
LAST-MODIFIED:20191229T144012Z
UID:927-1578421800-1578432600@wikiprojet.fr
SUMMARY:Lean Startup
DESCRIPTION:Paris Centre : Conférence Lean Startup\n  \n\nConférences\n\nLe pôle de Paris du PMI-France Branche Ile de France\, vous invite le mardi 7 Janvier 2020 à 18h30\, à l’Espace Saint-Martin\, à assister à la conférence : Lean Startup \nCette présentation sera animée par Franck Debane. \nhttps://pmi-france.org/branches/paris-ile-de-france/conferences/ile-de-france-events/paris-centre/conference-janv-2020 \nLien Content-Hub :  7/01/20 – Lean Startup \n  \n\nInfos sur l’événement\n\nThis conference is about discovering and learning the essentials of the Lean Startup approach. How and why Lean Startup changes business\, management and organisations. What is at the core of this approach? How to apply it. When is this approach helpful and how does it complement other methods? In this conference\, you will learn the core elements of the method and how to use them.\nFranck Debane \nFranck Debane has lived and worked extensively in the Silicon Valley\, London and Paris. Engineering by training\, he has co-founded 2 startups (one acquired) and worked for large companies such as AOL and the BBC. He mentors startups founders and helps corporate teams innovate by using Lean Startup\, Design Thinking and Business Model Innovation. \nHe co-founded Tango Start\, with the mission to inject the entrepreneurial spirit back into corporation and help businesses adapt to the changing world. Franck co-founder the Lean Startup Experience\, the 12\,000+ Lean Startup practitioners community in France.\nLa participation à cette conférence rapporte 2 PDU. \n  \n\nPrésentation de l’événement\n\nAGENDA\n18h15-18H30 : Accueil et enregistrement des participants\n18h30 – 20h30 : Présentation\n20h30 : Cocktail \n  \nTARIF\nAdhérents : 10€\nNon-adhérents 20€\nEtudiants : 5€ : Pour les étudiants\, inscription et paiement sur place sur présentation de la carte d’étudiant. \n  \nPropriétés de l’événement\nDate de l’événement 07-01-2020 18:30\nDate de fin 07-01-2020 21:30\nRegistration Start Date 01-09-2019\nDate butoir 07-01-2020 16:00\nPrix individuel €20\,00\nNo. of Strategic PDUs 1\nNo. of Leadership PDUs 1\nLieu Paris (75) Espace Saint-Martin
URL:https://wikiprojet.fr/event/7-01-20-lean-startup/
LOCATION:Espace Saint-Martin\, 199 Rue Saint-Martin\, Paris\, 75003\, France
CATEGORIES:Conférence
ATTACH;FMTTYPE=image/jpeg:https://wikiprojet.fr/wp-content/uploads/2019/12/Build-Measure-Learn.jpg
END:VEVENT
BEGIN:VEVENT
DTSTART;TZID=Europe/Paris:20200107T123000
DTEND;TZID=Europe/Paris:20200107T133000
DTSTAMP:20260422T175943
CREATED:20191229T143504Z
LAST-MODIFIED:20200107T082348Z
UID:931-1578400200-1578403800@wikiprojet.fr
SUMMARY:Optimisez votre activité sur LinkedIn
DESCRIPTION:Optimisez votre activité LinkedIn\n— Pour un RESEAUTAGE EFFICACE —\n  \nContent Hub :  7/01/20 – Réseautage Efficace – Linkedin \n\nWebinaire Région Globale\n\nLa Région Globale vous propose ce webinaire gratuit\, 2nd d’une série sur le résautage. Eric Le Gendre GuruNetworker viendra nous présenter comment améliorer son activité sur Linkedin \n* En PJ les Docs utiles\, et/ou cartes enfants\n* En commentaire les notes prises \nPourquoi parler de « réseautage efficace » ? Parce que le sujet est aujourd’hui incontournable ! En effet\, la majorité d’entre nous revendique « un réseau »\, une activité de networking … Mais sont-ils efficaces ? Ont-ils organisé leur activité réseau ? Optimisent-ils leur temps ? Génèrent-ils une activité concrète et efficace ? … de belles rencontres ? De nouvelles opportunités\, voire du business ? Ou au contraire perdent-ils/elles leur temps ? Sont-ils égarés parmi des centaines de cartes de visite ? Ou freinés par plusieurs réseaux nocifs ou inappropriés ? \n  \n\nPrésentation de l’événement\n\nSans parler d’une maîtrise plus ou moins aboutie de leur e-reputation … Quelques-uns parmi les challenges\, auxquels vous êtes confrontés et pour lesquels ma démarche peut vous y aider. Voir à ce sujet le podcast du premier Webinar PMI sur ce sujet\, tenu le 24 septembre 2019. Dispo également sur ericlg.com \nEt vous ? Optimisez-vous votre activité sur LinkedIn ? Pour bien réseauter avec LinkedIn\, il faut non seulement avoir un bon profil\, mais également savoir communiquer … C’est ainsi que j’aurais le plaisir de vous présenterplus efficacement au plus vite\, j’ai le plaisir de vous proposer de participer à une conférence. Elle vous permettra de perfectionner vos talents de réseautage ! Qu’est-ce que LinkedIn ? A quoi sert LinkedIn ? Quel niveau d’engagement ? \n  \n\nConférencier\n\nEric Le Gendre est un ancien dirigeant du secteur automobile. Il a travaillé pour deux grands groupes (PSA et VW) en France et à l‘international. Pour Peugeot\, il a entre autres été Directeur de la Stratégie commerciale\, Directeur général de la Suisse\, et Directeur monde du CRM et clients. Pour SEAT il a été Directeur Export et membre du Board commercial. Eric a vécu plus de 11 ans à l’étranger\, et travaillé 25 ans à l’international. Il a également été entrepreneur dans l’environnement. Plus sur www.ericlg.com \n \n\nPropriétés de l’événement\n\nDate de l’événement 07-01-2020 13:00\nDate de fin 07-01-2020 14:00\nPrix individuel Gratuit\n1 PDU pour les certifiés PMI \nhttps://pmi-france.org/region-globale/agenda-des-webinaires/webinaire-region-globale-optimisez-votre-activite-sur-linkedin
URL:https://wikiprojet.fr/event/optimisez-votre-activite-sur-linkedin/
LOCATION:Webinaire\, France
CATEGORIES:Webinaire
ATTACH;FMTTYPE=image/jpeg:https://wikiprojet.fr/wp-content/uploads/2019/12/Webinaire_7_jan_COMM.jpg
END:VEVENT
BEGIN:VEVENT
DTSTART;TZID=Europe/Paris:20191122T123000
DTEND;TZID=Europe/Paris:20191122T133000
DTSTAMP:20260422T175943
CREATED:20190810T184039Z
LAST-MODIFIED:20191229T153250Z
UID:397-1574425800-1574429400@wikiprojet.fr
SUMMARY:Digital Learning - 10 leçons apprises
DESCRIPTION:LLe projet international pédagogique et digital du Thales Learning Hub\, l’université du Groupe Thales\, a été lancé en janvier 2014. Ce projet a vocation à mettre en place une offre de formation à forte valeur ajoutée pour les collaborateurs du Groupe et en particulier dans sa dimension digitale. \nJean-Roch Houllier vous propose de partager autour du projet et de dix leçons apprises qui se sont révélées essentielles à la réussite du projet. \n  \nIntervenant: Jean-Roch HOULLIER \nDiplômé d’HEC Paris et de SUPAERO (ISAE)\, Jean-Roch Houllier est actuellement directeur pédagogique du Thales Learning Hub\, l’université du groupe THALES. Pendant environ une quinzaine d’années\, il a été amené à piloter des projets à dimension internationale. \nLes aspects suivis de réalisation\, interculturalité\, retour d’expérience et encadrement des équipes font écho à son goût prononcé pour le conseil\, incluant des facettes telles que le conseil\, le mentorat\, la formation et le coaching\, en lien avec son « métier » de chef de projet senior. Parmi ceux-ci\, la dimension interculturelle\, a fait l’objet de sa thèse professionnelle de mastère soutenue en 2008 suivie d’un doctorat en management de projet obtenu en 2017 (SKEMA). \nJean-Roch est chercheur associé au sein du Muséum National d’Histoire Naturelle de Paris\, en lien avec ses recherches sur la préhistoire\, enseignant-vacataire et directeur de thèses professionnelles pour HEC Paris et la SKEMA. \nJean-Roch Houllier est enfin le directeur du développement académique pour le PMI-France. \n\n\n\nPropriétés de l’événement\n\n\n\nDate de l’événement\n22-11-2019 12:30\n\n\nDate de fin\n22-11-2019 13:30\n\n\nRegistration Start Date\n21-10-2019\n\n\nDate butoir\n21-11-2019 14:00\n\n\nPrix individuel\nGratuit\n\n\nNo. of Technical PDUs\n1
URL:https://wikiprojet.fr/event/digital-learning-10-lecons-apprises/
LOCATION:Webinaire\, France
CATEGORIES:Webinaire
ATTACH;FMTTYPE=image/jpeg:https://wikiprojet.fr/wp-content/uploads/2019/08/Digital-Learning-banner.jpg
END:VEVENT
BEGIN:VEVENT
DTSTART;TZID=Europe/Paris:20191003T123000
DTEND;TZID=Europe/Paris:20191003T133000
DTSTAMP:20260422T175943
CREATED:20190810T181647Z
LAST-MODIFIED:20190810T185811Z
UID:392-1570105800-1570109400@wikiprojet.fr
SUMMARY:Ennéagramme : un outil de connaissance de soi et de compréhension de l’autre
DESCRIPTION:L’ennéagramme est un système d’étude de la personnalité qui repose sur l’observation de 9 comportements dominants. Utilisée en développement personnel et en entreprise\, cette typologie offre des repères pour mieux se connaitre et comprendre les autres\, mieux vivre et travailler ensemble.\nCette conférence interactive permettra d’expérimenter la pluralité des angles de vue que sont nos personnalités. \nIntervenant: ERNAULT Elisabeth –\nMini-bio : Après une expérience dans le secteur social interentreprise comme assistante sociale et manager\, Elisabeth ERNAULT a souhaité envisager la relation d’accompagnement d’une autre manière en travaillant à l’émergence des ressources que la personne porte en elle et en proposant de nouvelles clefs.\nAujourd’hui coach certifiée et formatrice\, la spécificité de son accompagnement tient à sa longue expérience de la relation et au choix des outils qu’elle a privilégié : l’ennéagramme pour se mieux connaitre\, le coaching pour atteindre ses objectifs et la communication bienveillante de Thomas Gordon pour une vie relationnelle harmonieuse et équilibrée.\nSite web : www.enneaphore.fr \n\n\n\nPropriétés de l’événement\n\n\n\nDate de l’événement\n03-10-2019 12:30\n\n\nDate de fin\n03-10-2019 13:30\n\n\nRegistration Start Date\n02-09-2019\n\n\nDate butoir\n02-10-2019 14:00\n\n\nPrix individuel\nGratuit\n\n\nNo. of Leadership PDUs\n1
URL:https://wikiprojet.fr/event/enneagramme-un-outil-de-connaissance-de-soi-et-de-comprehension-de-lautre/
LOCATION:Webinaire\, France
CATEGORIES:Webinaire
ATTACH;FMTTYPE=image/gif:https://wikiprojet.fr/wp-content/uploads/2019/08/eneaengranaje.gif
END:VEVENT
BEGIN:VEVENT
DTSTART;TZID=Europe/Paris:20190917T183000
DTEND;TZID=Europe/Paris:20190917T213000
DTSTAMP:20260422T175943
CREATED:20190810T180322Z
LAST-MODIFIED:20190810T185129Z
UID:387-1568745000-1568755800@wikiprojet.fr
SUMMARY:Engager votre équipe dans l’excellence décisionnelle
DESCRIPTION:Le PMI-France Branche Ile de France\, vous invite le mardi 17 septembre à 18h30\, à l’Espace Saint-Martin\, à assister à la conférence de rentrée : \n\n\nEngager votre équipe dans l’excellence décisionnelle \nDévelopper l’agilité de vos processus de prise de décision pour garantir le plus haut niveau d’engagement \n\n\n  \nCette présentation sera animée par Olivier Zara. \nElle sera précédée d’une présentation des activités PMI-France déployées sur les pôles Est-Parisien\, Paris-Centre\, La Défense\, Essonne\, Yvelines\, Cergy\, Orléans. \n  \nPRESENTATION \nEngager votre équipe dans l’excellence décisionnelle \nMise en oeuvre avec succès depuis plus de dix ans dans de grands groupes\, l’excellence décisionnelle est une approche puissante pour gérer les risques décisionnels dans un environnement complexe et incertain : de nombreuses parties prenantes et expertises à mettre en synergie dans des délais toujours plus courts. \nL’excellence décisionnelle permet d’intégrer l’expertise de tous dans la co-construction d’une décision à la fois souple et robuste : capable d’adaptation tout en maintenant le cap sur l’objectif à atteindre. La mise en synergie des expertises va créer un engagement collectif durable\, car elle permet de courir vite… dans la bonne direction ! Elle est donc un complément indispensable aux démarches d’excellence opérationnelle afin d’éviter les problèmes dans les phases d’exécution. \nCette conférence vous permettra de comprendre : \n\nComment mieux gérer la complexité croissante des organisations et de leur environnement via l’appropriation de nouvelles modalités de co-construction ;\n\n\nComment être plus agiles et devenir autonomes dans la gestion des risques liée à une prise de décision en situation complexe.\n\n  \nOlivier Zara \n \nIntervenant pour plusieurs écoles : HEC Paris Executive Education\, SciencePo Paris Executive Education\, ESCP Europe… dans le cadre d’Executive MBA\, ateliers ou formations Intra pour dirigeants… sur les thèmes de l’excellence décisionnelle (intelligence collective) et du management digital. \nAuteur & blogueur\, Olivier a publié huit livres : Le sage & le singe\, La stratégie du Thé\, Le manager paradoxal\, Le manager digital\, Le manager contre-naturel (2ème édition)\, La méthode Synergy4\, Le management de l’intelligence collective (3ème édition) et Réussir sa carrière grâce au Personal Branding. \n  \nConsultant en management\, Olivier Zara est un expert en excellence décisionnelle : gestion des risques décisionnels par une approche holistique et systémique. Sa mission est d’aider les organisations à courir vite et surtout dans la bonne direction. Franco-canadien\, son expérience d’entrepreneur dans les technologies sociales lui permet de proposer des techniques de pointe telles que le sprint digital ou le co-développement stratégique pour augmenter les capacités cognitives d’un groupe (intelligence collective augmentée). \n\nLa participation à cette conférence rapporte 2 PDU. \n\nAGENDA \n18h15-18H30 : Accueil et enregistrement des participants \n18h30 – 19h : Activités PMI-France déployées sur les pôles Est-Parisien\, Paris-Centre\, La Défense\, Essonne\, Yvelines\, Cergy\, Orléans. \n19h – 20h30 : Présentation par Olivier Zara \n20h30 : Cocktail \nTARIF \nAdhérents : 10€ \nNon-adhérents 20€ \nEtudiants : 5€ : Pour les étudiants\, inscription et paiement sur place sur présentation de la carte d’étudiant.
URL:https://wikiprojet.fr/event/engager-votre-equipe-dans-lexcellence-decisionnelle/
LOCATION:Espace Saint-Martin\, 199 Rue Saint-Martin\, Paris\, 75003\, France
CATEGORIES:Conférence
ATTACH;FMTTYPE=image/jpeg:https://wikiprojet.fr/wp-content/uploads/2019/08/exigence-décisionnelle.jpg
END:VEVENT
BEGIN:VEVENT
DTSTART;TZID=Europe/Paris:20190813T190000
DTEND;TZID=Europe/Paris:20190813T200000
DTSTAMP:20260422T175943
CREATED:20190810T184856Z
LAST-MODIFIED:20191229T140127Z
UID:400-1565722800-1565726400@wikiprojet.fr
SUMMARY:Scrum Advanced Topics
DESCRIPTION:Wednesday August 13\, 2019\, 1:00 PM EDT (17:00 UTC)\nScrum itself is a simple framework for effective team collaboration on complex products. While it is lightweight and simple to understand\, it is difficult to master. The Scrum.org Ask a Professional Scrum Trainer series\, features Professional Scrum Trainers (PSTs) in a live session\, answering your most pressing questions regarding the challenges and situations your Scrum Teams are facing. \nIn this episode of Ask a Professional Scrum Trainer\, PST Martin Hinshelwood will be available to answer any Scrum related questions you may have\, including questions around using Scrum with DevOps\, Scaling Scrum with Nexus and more. Please bring your most pressing questions for this opportunity! \n\n\n  \n \n  \nBio\n\nMartin Hinshelwood is the Founder/CEO of naked Agility Limited and has been their Principal Consultant and Trainer on DevOps & Agility for four years. Martin is a Professional Scrum Trainer\, Microsoft MVP: Visual Studio and Development Technologies\, and has been Consulting\, Coaching\, and Training in DevOps & Agility with Visual Studio\, Azure\, Team Services\, and Scrum since 2010 and has been delivering software since 2000. \nMartin is available for private consulting and training worldwide and has many public classes across the globe.
URL:https://wikiprojet.fr/event/scrum-advanced-topics/
LOCATION:Webinaire\, France
CATEGORIES:Webinaire
ATTACH;FMTTYPE=image/png:https://wikiprojet.fr/wp-content/uploads/2019/08/scrm-advanced-webinaire.png
END:VEVENT
BEGIN:VEVENT
DTSTART;TZID=Europe/Paris:20180313T123000
DTEND;TZID=Europe/Paris:20180313T133000
DTSTAMP:20260422T175943
CREATED:20191229T135552Z
LAST-MODIFIED:20191229T135856Z
UID:918-1520944200-1520947800@wikiprojet.fr
SUMMARY:Performance des Equipes Virtuelles (VTMM)
DESCRIPTION:Paris-Saclay 13-03-2018 Equipe Virtuelle\nun référentiel de bonnes pratiques pour augmenter la maturité et la performance \nContent-Hub : 13/03/18 VTMM Equipes virtuelles \nLe pôle PMI Paris-Saclay vous invite à assister à la Conférence sur le thème de « Equipe Virtuelle : un référentiel de bonnes pratiques pour augmenter la maturité et la performance ” \nCet événement aura lieu le mardi 13 mars 2018 de 12h30 à 14h00 à la cité de l’Innovation\, Nokia*. \nLa conférence est réservée aux membres du PMI. \nLa participation à cet événement rapporte 1\,5 PDU aux certifiés PMP et PgMP présents (0\,5: Technique\, 0\,5: Business\, 0\,5 : Leadership). \n \n  \n\nDescription\n\nQuels sont les challenges pour les équipes virtuelles et comment améliorer l’efficacité de ces équipes ? \nLes challenges d’une équipe virtuelle sont différents de celui d’une équipe co-localisée. Malheureusement\, souvent on essaie de répondre à cette problématique avec des outils inadaptés et donc inefficaces. \nLe modèle de maturité d’équipes virtuelles (VTMM) essaie d’apporter une réponse. Véritable outil de diagnostique il fournit une analyse claire et approfondie sur les forces et faiblesses d’une équipe virtuelle. Ensuite il propose de bonnes pratiques pour améliorer son efficacité d’une façon très ciblée. \n  \n\nIntervenant\n\nDirk Doppelfeld est Consultant-Formateur en Management de Projet. Il est le fondateur de la société Project & Service Solutions qu’il a créée en 2011. \nDepuis quelques années il s’est spécialisé dans le management des équipes interculturelles et virtuelles.Il est certifié PMP du PMI. Engagé au PMI depuis 2010 il est actuellement le Vice-président en charge des grands projets. \nEn 2016 il a terminé sa Master Class du Leadership Institute du PMI. \n  \n\nAgenda\n12h15-12H30 : Accueil et enregistrement des participants\n12h30-13h30 : Conférence\n13h30-14h00 : Questions/réponses\n\n  \n\nLieu\nNOKIA\n1 ROUTE DE VILLEJUST\nCENTRE DE VILLARCEAUX\n91620 NOZAY
URL:https://wikiprojet.fr/event/performance-des-equipes-virtuelles-vtmm/
LOCATION:NOKIA Paris-Saclay\, 1 Route de Villejust\, Nozay\, Essonnes\, 91620\, France
CATEGORIES:Conférence
ATTACH;FMTTYPE=image/png:https://wikiprojet.fr/wp-content/uploads/2019/12/VTMM-Graphique.png
END:VEVENT
END:VCALENDAR